Workbook
Name FabricValidation: VALIDATION!$I$4:$I$8
Name JobNumber: '[1]TECH PACK TRANSFER'!$B$5
Name JobNumber: #REF!
Name LockUnlock: [2]REFERENCES!$B$22
Name Validation_Colour: [1]VALIDATION!#REF!:OFFSET([1]VALIDATION!#REF!,COUNTA([1]VALIDATION!#REF!),0)
Name Validation_Colour: VALIDATION!#REF!:OFFSET(VALIDATION!#REF!,COUNTA(VALIDATION!#REF!),0)
Name Validation_Fabric1: [1]VALIDATION!#REF!:OFFSET([1]VALIDATION!#REF!,COUNTA([1]VALIDATION!#REF!),0)
Name Validation_Fabric1: VALIDATION!#REF!:OFFSET(VALIDATION!#REF!,COUNTA(VALIDATION!#REF!),0)
Name Validation_Fabric2: [1]VALIDATION!#REF!:OFFSET([1]VALIDATION!#REF!,COUNTA([1]VALIDATION!#REF!),0)
Name Validation_Fabric2: VALIDATION!#REF!:OFFSET(VALIDATION!#REF!,COUNTA(VALIDATION!#REF!),0)

Sheet INSTRUCTIONS
B2: INSTRUCTIONS
B4: When you want to create a TECH PACK for a specific job, got to the TECHPACK TRANSFER worksheet in the Tracker file, and copy the rows relating to the job (don't copy the table header row (row 4) and paste into the TECH PACK TRANSFER worksheet cell B5.
B5: Once you have created and saved the TECH PACK file for a job, the TECH PACK TRANSFER worksheet in this file contains the file location and name in cell B1. Copy and paste the file location as a value into colum D in the TRACKER worksheet in the Tracker file, so that staff know where the file is saved. This is also important for the production costs to be populated in the TRACKER as the formulas use the file location inputted in column D. It can also be used as a hyperlink for the staff using the TRACKER.

Sheet VALIDATION
B2: DROP DOWN VALIDATION LISTS - PLEASE DON'T TOUCH
B4: FABRIC | C4: COLOUR | D4: THREAD COLOUR | E4: COUNT | F4: CONCAT | G4: Count | H4: FABRIC | I4: FABRIC
E5: =IF(B5=B4,E4+1,1) -> 1 | F5: =B5&E5 -> 1 | G5: =IF(E5=1,COUNTIF($E$4:E5,1),"") -> 1 | H5: =INDEX($B$5:$B$18,MATCH(1,$G$5:$G$18,0)) -> 0 | I5: =IFERROR(IF(H5=0,"",H5),"")
E6: =IF(B6=B5,E5+1,1) -> 2 | F6: =B6&E6 -> 2 | G6: =IF(E6=1,COUNTIF($E$4:E6,1),"") | H6: =INDEX($B$5:$B$18,MATCH(2,$G$5:$G$18,0)) -> #N/A | I6: =IFERROR(IF(H6=0,"FABRIC 2",H6),"")
E7: =IF(B7=B6,E6+1,1) -> 3 | F7: =B7&E7 -> 3 | G7: =IF(E7=1,COUNTIF($E$4:E7,1),"") | H7: =INDEX($B$5:$B$18,MATCH(3,$G$5:$G$18,0)) -> #N/A | I7: =IFERROR(IF(H7=0,"",H7),"")
E8: =IF(B8=B7,E7+1,1) -> 4 | F8: =B8&E8 -> 4 | G8: =IF(E8=1,COUNTIF($E$4:E8,1),"") | H8: =INDEX($B$5:$B$18,MATCH(4,$G$5:$G$18,0)) -> #N/A | I8: =IFERROR(IF(H8=0,"",H8),"")
E9: =IF(B9=B8,E8+1,1) -> 5 | F9: =B9&E9 -> 5 | G9: =IF(E9=1,COUNTIF($E$4:E9,1),"")
E10: =IF(B10=B9,E9+1,1) -> 6 | F10: =B10&E10 -> 6 | G10: =IF(E10=1,COUNTIF($E$4:E10,1),"")
E11: =IF(B11=B10,E10+1,1) -> 7 | F11: =B11&E11 -> 7 | G11: =IF(E11=1,COUNTIF($E$4:E11,1),"")
E12: =IF(B12=B11,E11+1,1) -> 8 | F12: =B12&E12 -> 8 | G12: =IF(E12=1,COUNTIF($E$4:E12,1),"")
E13: =IF(B13=B12,E12+1,1) -> 9 | F13: =B13&E13 -> 9 | G13: =IF(E13=1,COUNTIF($E$4:E13,1),"")
E14: =IF(B14=B13,E13+1,1) -> 10 | F14: =B14&E14 -> 10 | G14: =IF(E14=1,COUNTIF($E$4:E14,1),"")
E15: =IF(B15=B14,E14+1,1) -> 11 | F15: =B15&E15 -> 11 | G15: =IF(E15=1,COUNTIF($E$4:E15,1),"")
E16: =IF(B16=B15,E15+1,1) -> 12 | F16: =B16&E16 -> 12 | G16: =IF(E16=1,COUNTIF($E$4:E16,1),"")
E17: =IF(B17=B16,E16+1,1) -> 13 | F17: =B17&E17 -> 13 | G17: =IF(E17=1,COUNTIF($E$4:E17,1),"")
E18: =IF(B18=B17,E17+1,1) -> 14 | F18: =B18&E18 -> 14 | G18: =IF(E18=1,COUNTIF($E$4:E18,1),"")

Sheet SAMPLING QUOTE
B3: P. 09 630 5071 | H3: E. workroom@thepatterntable.com
B4: PATTERN BRIEF SHEET | C4: Job #
B5: UNLABELLED
B6: STYLE NAME: | C6: =#REF! -> #REF!
B7: STYLE CODE:
B8: SEASON:
B9: REFERENCED STYLE
B10: DESCRIPTION
C11: HOURLY RATE | D11: ESTIMATED TIME (HRS) | F11: TOTAL $/ STAGE
B12: CONSULTING / JOB MANAGEMENT | C12: 50
B13: INITIAL FLAT PATTERN | C13: 50
B14: 1ST CUT (SAMPLE) | C14: 40
B15: 1ST MAKE (SAMPLE) | C15: 40
B16: FITTING | C16: 50
B17: AMENDMENTS | C17: 50
B18: 2ND CUT (SAMPLE) | C18: 40
B19: 2ND MAKE (SAMPLE) | C19: 40
B20: 2ND FITTING | C20: 50
B21: DIGITISE AND GRADE | C21: 90
B22: DIGITAL MARKER
B23: PRODUCTION CUT | C23: 40 | D23: TBC
B24: PRODUCTION MAKE | C24: 35 | D24: TBC
B25: PRESSING | C25: PER UNIT | D25: TBC
B27: TOTAL | C27: THIS PRICE INCLUDES PATTERN AMENDMENTS AND A SECOND ROUND OF SAMPLING | F27: =SUM(F12:H22) -> 0
B28: TOTAL | C28: THIS PRICE IS IF NO AMENDMENTS ARE NEEDED AND THE FIRST SAMPLE IS APPROVED | F28: =SUM(F12:H16)+SUM(F21:H22) -> 0

Sheet COVER SHEET
B2: YOUR BRAND
B3: CONTACT DETAILS
B4: COVER SHEET
B6: STYLE NAME:
B7: STYLE CODE:
B8: SEASON:
B34: MEASUREMENTS
B35: Please note, measurements are finished seams unless otherwise stated.
B36: All measurements in cm with 0.5cm tolerance
B37: POINT OF MEASUREMENT | D37: 6 / XS | E37: 8 / S | F37: 10 / M | G37: 12 / L | H37: 14 / XL | I37: GRADE
B38: A | D38: =E38-I38 -> 0 | F38: =E38+I38 -> 0 | G38: =F38+I38 -> 0 | H38: =G38+I38 -> 0
B39: B | D39: =E39-I39 -> 0 | F39: =E39+I39 -> 0 | G39: =F39+I39 -> 0 | H39: =G39+I39 -> 0
B40: C | D40: =E40-I40 -> 0 | F40: =E40+I40 -> 0 | G40: =F40+I40 -> 0 | H40: =G40+I40 -> 0
B41: D | D41: =E41-I41 -> 0 | F41: =E41+I41 -> 0 | G41: =F41+I41 -> 0 | H41: =G41+I41 -> 0
B42: E | D42: =E42-I42 -> 0 | F42: =E42+I42 -> 0 | G42: =F42+I42 -> 0 | H42: =G42+I42 -> 0
B43: F | D43: =E43-I43 -> 0 | F43: =E43+I43 -> 0 | G43: =F43+I43 -> 0 | H43: =G43+I43 -> 0
B44: G | D44: =E44-I44 -> 0 | F44: =E44+I44 -> 0 | G44: =F44+I44 -> 0 | H44: =G44+I44 -> 0
B45: H | D45: =E45-I45 -> 0 | F45: =E45+I45 -> 0 | G45: =F45+I45 -> 0 | H45: =G45+I45 -> 0
B46: I | D46: =E46-I46 -> 0 | F46: =E46+I46 -> 0 | G46: =F46+I46 -> 0 | H46: =G46+I46 -> 0
B47: CHANGES FROM SAMPLE PROVIDED
B53: PATTERN SPEC MEASUREMENTS - FOR DESIGNER AND PATTERNMAKERS USE ONLY
B54: SIZING (GREY IS SAMPLE SIZE)
B55: All measurements in cm
B56: POINT OF MEASUREMENT | D56: 6 / XS | E56: 8 / S | F56: 10 / M | G56: 12 / L | I56: GRADE
B57: A | D57: =E57-I57 -> 0 | F57: =E57+I57 -> 0 | G57: =F57+I57 -> 0
B58: B | D58: =E58-I58 -> 0 | F58: =E58+I58 -> 0 | G58: =F58+I58 -> 0
B59: C | D59: =E59-I59 -> 0 | F59: =E59+I59 -> 0 | G59: =F59+I59 -> 0
B60: D | D60: =E60-I60 -> 0 | F60: =E60+I60 -> 0 | G60: =F60+I60 -> 0
B61: E | D61: =E61-I61 -> 0 | F61: =E61+I61 -> 0 | G61: =F61+I61 -> 0
B62: F | D62: =E62-I62 -> 0 | F62: =E62+I62 -> 0 | G62: =F62+I62 -> 0
B63: G | D63: =E63-I63 -> 0 | F63: =E63+I63 -> 0 | G63: =F63+I63 -> 0
B64: H | D64: =E64-I64 -> 0 | F64: =E64+I64 -> 0 | G64: =F64+I64 -> 0
B65: I | D65: =E65-I65 -> 0 | F65: =E65+I65 -> 0 | G65: =F65+I65 -> 0

Sheet TRIMS & SPEC SHEET
B2: YOUR BRAND
B3: CONTACT DETAILS
B4: SPECIFICATION SHEET
B6: STYLE NAME:
B7: STYLE CODE:
B8: SEASON:
B9: TRIMS
B10: TRIM | C10: DESCRIPTION | D10: SIZE | E10: QUANTITY | F10: SUPPLIER
B21: THREAD | C21: COLOUR | D21: WEIGHT | E21: CODE | F21: SUPPLIER
B23: ADDITIONAL INFO
B24: STITCH LENGTH | C24: 10 PER 2.5CM | D24: 1CM SEAMS | E24: ALL BODY SEAMS
B25: BODY SEAMS | C25: 1CM PLAINSEW | D25: 6MM SEAMS
B26: SEAM FINISH | C26: PLAINSEW + OVERLOCK | D26: EDGESTITCH
B27: TOPSTITCH | D27: UNDERSTITCH
B28: MAIN HEM | D28: LINING HEM
B29: LABELS
B30: BRAND LABEL | C30: CARE LABEL | D30: SWING TICKET | F30: SIZE PIP
B35: CONSTRUCTION INFORMATION
B53: ATTACHMENTS
B54: BUTTONHOLES
B55: KEYHOLES
B56: OTHER
B57: FINISHING
B58: PRESSING
B59: HANGING
B60: OTHER

Sheet PIECE & CUTTERS SHEET
B2: YOUR BRAND
B3: CONTACT DETAILS
B4: CUTTERS SHEET
B6: STYLE NAME:
B7: STYLE CODE:
B8: SEASON:
B9: PIECE SHEET
B10: PATTERN PIECE | D10: MAIN | E10: FUSING | F10: LINING | G10: CONTRAST
B29: USABLE WIDTH
B30: YIELDS
B31: BINDING
B34: CUTTERS NOTES

Sheet FABRICS 
B3: P. 09 630 5071 | C3: E. workroom@thepatterntable.com
B4: CUTTERS SHEET - FABRICS | C4: ="Job # " & JobNumber -> #REF!
B5: =#REF! -> #REF!
B6: STYLE NAME: | C6: {=#REF!} -> #REF!
B7: STYLE CODE: | C7: {=#REF!} -> #REF!
B8: =VALIDATION!I5
B9: =IFERROR(INDEX(VALIDATION!$C$5:$C$18,MATCH($B$8&1,VALIDATION!$F$5:$F$18,0)),"") -> 0 | C9: DESCRIPTION | D9: SUPPLIER | E9: WIDTH | F9: QUANTITY
B10: MAIN
B11: CONTRAST
B12: LINING
B13: FUSING
B14: =IFERROR(INDEX(VALIDATION!$C$5:$C$18,MATCH($B$8&2,VALIDATION!$F$5:$F$18,0)),"") -> 0 | C14: DESCRIPTION | D14: SUPPLIER | E14: WIDTH | F14: QUANTITY
B15: MAIN
B16: CONTRAST
B17: LINING
B18: FUSING
B19: =IFERROR(INDEX(VALIDATION!$C$5:$C$18,MATCH($B$8&3,VALIDATION!$F$5:$F$18,0)),"") -> 0 | C19: DESCRIPTION | D19: SUPPLIER | E19: WIDTH | F19: QUANTITY
B20: MAIN
B21: CONTRAST
B22: LINING
B23: FUSING
B24: =IFERROR(INDEX(VALIDATION!$C$5:$C$18,MATCH($B$8&4,VALIDATION!$F$5:$F$18,0)),"") -> 0 | C24: DESCRIPTION | D24: SUPPLIER | E24: WIDTH | F24: QUANTITY
B25: MAIN
B26: CONTRAST
B27: LINING
B28: FUSING
B30: =VALIDATION!I6
B31: =IFERROR(INDEX(VALIDATION!$C$5:$C$18,MATCH($B$30&1,VALIDATION!$F$5:$F$18,0)),"") -> 0 | C31: DESCRIPTION | D31: SUPPLIER | E31: WIDTH | F31: QUANTITY
B32: MAIN
B33: CONTRAST
B34: LINING
B35: FUSING
B36: =IFERROR(INDEX(VALIDATION!$C$5:$C$18,MATCH($B$30&2,VALIDATION!$F$5:$F$18,0)),"") -> 0 | C36: DESCRIPTION | D36: SUPPLIER | E36: WIDTH | F36: QUANTITY
B37: MAIN
B38: CONTRAST
B39: LINING
B40: FUSING
B41: =IFERROR(INDEX(VALIDATION!$C$5:$C$18,MATCH($B$30&3,VALIDATION!$F$5:$F$18,0)),"") -> 0 | C41: DESCRIPTION | D41: SUPPLIER | E41: WIDTH | F41: QUANTITY
B42: MAIN
B43: CONTRAST
...
